BEGIN:VCALENDAR
VERSION:2.0
PRODID:-//Kultur- und Heimatverein Mehringen e. V. - ECPv6.15.20//NONSGML v1.0//EN
CALSCALE:GREGORIAN
METHOD:PUBLISH
X-WR-CALNAME:Kultur- und Heimatverein Mehringen e. V.
X-ORIGINAL-URL:https://mehringen.de
X-WR-CALDESC:Veranstaltungen für Kultur- und Heimatverein Mehringen e. V.
REFRESH-INTERVAL;VALUE=DURATION:PT1H
X-Robots-Tag:noindex
X-PUBLISHED-TTL:PT1H
BEGIN:VTIMEZONE
TZID:Europe/Berlin
BEGIN:DAYLIGHT
TZOFFSETFROM:+0100
TZOFFSETTO:+0200
TZNAME:CEST
DTSTART:20250330T010000
END:DAYLIGHT
BEGIN:STANDARD
TZOFFSETFROM:+0200
TZOFFSETTO:+0100
TZNAME:CET
DTSTART:20251026T010000
END:STANDARD
BEGIN:DAYLIGHT
TZOFFSETFROM:+0100
TZOFFSETTO:+0200
TZNAME:CEST
DTSTART:20260329T010000
END:DAYLIGHT
BEGIN:STANDARD
TZOFFSETFROM:+0200
TZOFFSETTO:+0100
TZNAME:CET
DTSTART:20261025T010000
END:STANDARD
BEGIN:DAYLIGHT
TZOFFSETFROM:+0100
TZOFFSETTO:+0200
TZNAME:CEST
DTSTART:20270328T010000
END:DAYLIGHT
BEGIN:STANDARD
TZOFFSETFROM:+0200
TZOFFSETTO:+0100
TZNAME:CET
DTSTART:20271031T010000
END:STANDARD
BEGIN:DAYLIGHT
TZOFFSETFROM:+0100
TZOFFSETTO:+0200
TZNAME:CEST
DTSTART:20280326T010000
END:DAYLIGHT
BEGIN:STANDARD
TZOFFSETFROM:+0200
TZOFFSETTO:+0100
TZNAME:CET
DTSTART:20281029T010000
END:STANDARD
END:VTIMEZONE
BEGIN:VEVENT
DTSTART;TZID=Europe/Berlin:20260427T153000
DTEND;TZID=Europe/Berlin:20260427T173000
DTSTAMP:20260420T121912
CREATED:20241106T201027Z
LAST-MODIFIED:20241106T201027Z
UID:10000692-1777303800-1777311000@mehringen.de
SUMMARY:Jugend Mobil - Spielangebote
DESCRIPTION:Für Kinder und Jugendliche ab 8 Jahren\nin der Sporthalle Mehringen\njeden zweiten Montag\nab dem 28.10.2024\nvon 15.30 bis 17.30 Uhr \nSchaut mal vorbei und habt Spaß dabei!
URL:https://mehringen.de/event/jugend-mobil-spielangebote-2/2026-04-27/
LOCATION:Sporthalle Mehringen
ATTACH;FMTTYPE=image/bmp:https://mehringen.de/wp-content/uploads/6wuipfk0.bmp
END:VEVENT
BEGIN:VEVENT
DTSTART;TZID=Europe/Berlin:20260511T153000
DTEND;TZID=Europe/Berlin:20260511T173000
DTSTAMP:20260420T121912
CREATED:20241106T201027Z
LAST-MODIFIED:20241106T201027Z
UID:10000693-1778513400-1778520600@mehringen.de
SUMMARY:Jugend Mobil - Spielangebote
DESCRIPTION:Für Kinder und Jugendliche ab 8 Jahren\nin der Sporthalle Mehringen\njeden zweiten Montag\nab dem 28.10.2024\nvon 15.30 bis 17.30 Uhr \nSchaut mal vorbei und habt Spaß dabei!
URL:https://mehringen.de/event/jugend-mobil-spielangebote-2/2026-05-11/
LOCATION:Sporthalle Mehringen
ATTACH;FMTTYPE=image/bmp:https://mehringen.de/wp-content/uploads/6wuipfk0.bmp
END:VEVENT
BEGIN:VEVENT
DTSTART;TZID=Europe/Berlin:20260525T153000
DTEND;TZID=Europe/Berlin:20260525T173000
DTSTAMP:20260420T121912
CREATED:20241106T201027Z
LAST-MODIFIED:20241106T201027Z
UID:10000694-1779723000-1779730200@mehringen.de
SUMMARY:Jugend Mobil - Spielangebote
DESCRIPTION:Für Kinder und Jugendliche ab 8 Jahren\nin der Sporthalle Mehringen\njeden zweiten Montag\nab dem 28.10.2024\nvon 15.30 bis 17.30 Uhr \nSchaut mal vorbei und habt Spaß dabei!
URL:https://mehringen.de/event/jugend-mobil-spielangebote-2/2026-05-25/
LOCATION:Sporthalle Mehringen
ATTACH;FMTTYPE=image/bmp:https://mehringen.de/wp-content/uploads/6wuipfk0.bmp
END:VEVENT
BEGIN:VEVENT
DTSTART;TZID=Europe/Berlin:20260608T153000
DTEND;TZID=Europe/Berlin:20260608T173000
DTSTAMP:20260420T121912
CREATED:20241106T201027Z
LAST-MODIFIED:20241106T201027Z
UID:10000695-1780932600-1780939800@mehringen.de
SUMMARY:Jugend Mobil - Spielangebote
DESCRIPTION:Für Kinder und Jugendliche ab 8 Jahren\nin der Sporthalle Mehringen\njeden zweiten Montag\nab dem 28.10.2024\nvon 15.30 bis 17.30 Uhr \nSchaut mal vorbei und habt Spaß dabei!
URL:https://mehringen.de/event/jugend-mobil-spielangebote-2/2026-06-08/
LOCATION:Sporthalle Mehringen
ATTACH;FMTTYPE=image/bmp:https://mehringen.de/wp-content/uploads/6wuipfk0.bmp
END:VEVENT
BEGIN:VEVENT
DTSTART;TZID=Europe/Berlin:20260622T153000
DTEND;TZID=Europe/Berlin:20260622T173000
DTSTAMP:20260420T121912
CREATED:20241106T201027Z
LAST-MODIFIED:20241106T201027Z
UID:10000696-1782142200-1782149400@mehringen.de
SUMMARY:Jugend Mobil - Spielangebote
DESCRIPTION:Für Kinder und Jugendliche ab 8 Jahren\nin der Sporthalle Mehringen\njeden zweiten Montag\nab dem 28.10.2024\nvon 15.30 bis 17.30 Uhr \nSchaut mal vorbei und habt Spaß dabei!
URL:https://mehringen.de/event/jugend-mobil-spielangebote-2/2026-06-22/
LOCATION:Sporthalle Mehringen
ATTACH;FMTTYPE=image/bmp:https://mehringen.de/wp-content/uploads/6wuipfk0.bmp
END:VEVENT
BEGIN:VEVENT
DTSTART;TZID=Europe/Berlin:20260706T153000
DTEND;TZID=Europe/Berlin:20260706T173000
DTSTAMP:20260420T121912
CREATED:20241106T201027Z
LAST-MODIFIED:20241106T201027Z
UID:10000697-1783351800-1783359000@mehringen.de
SUMMARY:Jugend Mobil - Spielangebote
DESCRIPTION:Für Kinder und Jugendliche ab 8 Jahren\nin der Sporthalle Mehringen\njeden zweiten Montag\nab dem 28.10.2024\nvon 15.30 bis 17.30 Uhr \nSchaut mal vorbei und habt Spaß dabei!
URL:https://mehringen.de/event/jugend-mobil-spielangebote-2/2026-07-06/
LOCATION:Sporthalle Mehringen
ATTACH;FMTTYPE=image/bmp:https://mehringen.de/wp-content/uploads/6wuipfk0.bmp
END:VEVENT
BEGIN:VEVENT
DTSTART;TZID=Europe/Berlin:20260720T153000
DTEND;TZID=Europe/Berlin:20260720T173000
DTSTAMP:20260420T121912
CREATED:20241106T201027Z
LAST-MODIFIED:20241106T201027Z
UID:10000698-1784561400-1784568600@mehringen.de
SUMMARY:Jugend Mobil - Spielangebote
DESCRIPTION:Für Kinder und Jugendliche ab 8 Jahren\nin der Sporthalle Mehringen\njeden zweiten Montag\nab dem 28.10.2024\nvon 15.30 bis 17.30 Uhr \nSchaut mal vorbei und habt Spaß dabei!
URL:https://mehringen.de/event/jugend-mobil-spielangebote-2/2026-07-20/
LOCATION:Sporthalle Mehringen
ATTACH;FMTTYPE=image/bmp:https://mehringen.de/wp-content/uploads/6wuipfk0.bmp
END:VEVENT
BEGIN:VEVENT
DTSTART;TZID=Europe/Berlin:20260803T153000
DTEND;TZID=Europe/Berlin:20260803T173000
DTSTAMP:20260420T121912
CREATED:20241106T201027Z
LAST-MODIFIED:20241106T201027Z
UID:10000699-1785771000-1785778200@mehringen.de
SUMMARY:Jugend Mobil - Spielangebote
DESCRIPTION:Für Kinder und Jugendliche ab 8 Jahren\nin der Sporthalle Mehringen\njeden zweiten Montag\nab dem 28.10.2024\nvon 15.30 bis 17.30 Uhr \nSchaut mal vorbei und habt Spaß dabei!
URL:https://mehringen.de/event/jugend-mobil-spielangebote-2/2026-08-03/
LOCATION:Sporthalle Mehringen
ATTACH;FMTTYPE=image/bmp:https://mehringen.de/wp-content/uploads/6wuipfk0.bmp
END:VEVENT
BEGIN:VEVENT
DTSTART;TZID=Europe/Berlin:20260817T153000
DTEND;TZID=Europe/Berlin:20260817T173000
DTSTAMP:20260420T121912
CREATED:20241106T201027Z
LAST-MODIFIED:20241106T201027Z
UID:10000700-1786980600-1786987800@mehringen.de
SUMMARY:Jugend Mobil - Spielangebote
DESCRIPTION:Für Kinder und Jugendliche ab 8 Jahren\nin der Sporthalle Mehringen\njeden zweiten Montag\nab dem 28.10.2024\nvon 15.30 bis 17.30 Uhr \nSchaut mal vorbei und habt Spaß dabei!
URL:https://mehringen.de/event/jugend-mobil-spielangebote-2/2026-08-17/
LOCATION:Sporthalle Mehringen
ATTACH;FMTTYPE=image/bmp:https://mehringen.de/wp-content/uploads/6wuipfk0.bmp
END:VEVENT
BEGIN:VEVENT
DTSTART;TZID=Europe/Berlin:20260831T153000
DTEND;TZID=Europe/Berlin:20260831T173000
DTSTAMP:20260420T121912
CREATED:20241106T201027Z
LAST-MODIFIED:20241106T201027Z
UID:10000701-1788190200-1788197400@mehringen.de
SUMMARY:Jugend Mobil - Spielangebote
DESCRIPTION:Für Kinder und Jugendliche ab 8 Jahren\nin der Sporthalle Mehringen\njeden zweiten Montag\nab dem 28.10.2024\nvon 15.30 bis 17.30 Uhr \nSchaut mal vorbei und habt Spaß dabei!
URL:https://mehringen.de/event/jugend-mobil-spielangebote-2/2026-08-31/
LOCATION:Sporthalle Mehringen
ATTACH;FMTTYPE=image/bmp:https://mehringen.de/wp-content/uploads/6wuipfk0.bmp
END:VEVENT
BEGIN:VEVENT
DTSTART;TZID=Europe/Berlin:20260914T153000
DTEND;TZID=Europe/Berlin:20260914T173000
DTSTAMP:20260420T121912
CREATED:20241106T201027Z
LAST-MODIFIED:20241106T201027Z
UID:10000702-1789399800-1789407000@mehringen.de
SUMMARY:Jugend Mobil - Spielangebote
DESCRIPTION:Für Kinder und Jugendliche ab 8 Jahren\nin der Sporthalle Mehringen\njeden zweiten Montag\nab dem 28.10.2024\nvon 15.30 bis 17.30 Uhr \nSchaut mal vorbei und habt Spaß dabei!
URL:https://mehringen.de/event/jugend-mobil-spielangebote-2/2026-09-14/
LOCATION:Sporthalle Mehringen
ATTACH;FMTTYPE=image/bmp:https://mehringen.de/wp-content/uploads/6wuipfk0.bmp
END:VEVENT
BEGIN:VEVENT
DTSTART;TZID=Europe/Berlin:20260928T153000
DTEND;TZID=Europe/Berlin:20260928T173000
DTSTAMP:20260420T121912
CREATED:20241106T201027Z
LAST-MODIFIED:20241106T201027Z
UID:10000703-1790609400-1790616600@mehringen.de
SUMMARY:Jugend Mobil - Spielangebote
DESCRIPTION:Für Kinder und Jugendliche ab 8 Jahren\nin der Sporthalle Mehringen\njeden zweiten Montag\nab dem 28.10.2024\nvon 15.30 bis 17.30 Uhr \nSchaut mal vorbei und habt Spaß dabei!
URL:https://mehringen.de/event/jugend-mobil-spielangebote-2/2026-09-28/
LOCATION:Sporthalle Mehringen
ATTACH;FMTTYPE=image/bmp:https://mehringen.de/wp-content/uploads/6wuipfk0.bmp
END:VEVENT
BEGIN:VEVENT
DTSTART;TZID=Europe/Berlin:20261012T153000
DTEND;TZID=Europe/Berlin:20261012T173000
DTSTAMP:20260420T121912
CREATED:20241106T201027Z
LAST-MODIFIED:20241106T201027Z
UID:10000704-1791819000-1791826200@mehringen.de
SUMMARY:Jugend Mobil - Spielangebote
DESCRIPTION:Für Kinder und Jugendliche ab 8 Jahren\nin der Sporthalle Mehringen\njeden zweiten Montag\nab dem 28.10.2024\nvon 15.30 bis 17.30 Uhr \nSchaut mal vorbei und habt Spaß dabei!
URL:https://mehringen.de/event/jugend-mobil-spielangebote-2/2026-10-12/
LOCATION:Sporthalle Mehringen
ATTACH;FMTTYPE=image/bmp:https://mehringen.de/wp-content/uploads/6wuipfk0.bmp
END:VEVENT
BEGIN:VEVENT
DTSTART;TZID=Europe/Berlin:20261026T153000
DTEND;TZID=Europe/Berlin:20261026T173000
DTSTAMP:20260420T121912
CREATED:20241106T201027Z
LAST-MODIFIED:20241106T201027Z
UID:10000705-1793028600-1793035800@mehringen.de
SUMMARY:Jugend Mobil - Spielangebote
DESCRIPTION:Für Kinder und Jugendliche ab 8 Jahren\nin der Sporthalle Mehringen\njeden zweiten Montag\nab dem 28.10.2024\nvon 15.30 bis 17.30 Uhr \nSchaut mal vorbei und habt Spaß dabei!
URL:https://mehringen.de/event/jugend-mobil-spielangebote-2/2026-10-26/
LOCATION:Sporthalle Mehringen
ATTACH;FMTTYPE=image/bmp:https://mehringen.de/wp-content/uploads/6wuipfk0.bmp
END:VEVENT
BEGIN:VEVENT
DTSTART;TZID=Europe/Berlin:20261109T153000
DTEND;TZID=Europe/Berlin:20261109T173000
DTSTAMP:20260420T121912
CREATED:20241106T201027Z
LAST-MODIFIED:20241106T201027Z
UID:10000706-1794238200-1794245400@mehringen.de
SUMMARY:Jugend Mobil - Spielangebote
DESCRIPTION:Für Kinder und Jugendliche ab 8 Jahren\nin der Sporthalle Mehringen\njeden zweiten Montag\nab dem 28.10.2024\nvon 15.30 bis 17.30 Uhr \nSchaut mal vorbei und habt Spaß dabei!
URL:https://mehringen.de/event/jugend-mobil-spielangebote-2/2026-11-09/
LOCATION:Sporthalle Mehringen
ATTACH;FMTTYPE=image/bmp:https://mehringen.de/wp-content/uploads/6wuipfk0.bmp
END:VEVENT
BEGIN:VEVENT
DTSTART;TZID=Europe/Berlin:20261123T153000
DTEND;TZID=Europe/Berlin:20261123T173000
DTSTAMP:20260420T121912
CREATED:20241106T201027Z
LAST-MODIFIED:20241106T201027Z
UID:10000707-1795447800-1795455000@mehringen.de
SUMMARY:Jugend Mobil - Spielangebote
DESCRIPTION:Für Kinder und Jugendliche ab 8 Jahren\nin der Sporthalle Mehringen\njeden zweiten Montag\nab dem 28.10.2024\nvon 15.30 bis 17.30 Uhr \nSchaut mal vorbei und habt Spaß dabei!
URL:https://mehringen.de/event/jugend-mobil-spielangebote-2/2026-11-23/
LOCATION:Sporthalle Mehringen
ATTACH;FMTTYPE=image/bmp:https://mehringen.de/wp-content/uploads/6wuipfk0.bmp
END:VEVENT
BEGIN:VEVENT
DTSTART;TZID=Europe/Berlin:20261207T153000
DTEND;TZID=Europe/Berlin:20261207T173000
DTSTAMP:20260420T121912
CREATED:20241106T201027Z
LAST-MODIFIED:20241106T201027Z
UID:10000708-1796657400-1796664600@mehringen.de
SUMMARY:Jugend Mobil - Spielangebote
DESCRIPTION:Für Kinder und Jugendliche ab 8 Jahren\nin der Sporthalle Mehringen\njeden zweiten Montag\nab dem 28.10.2024\nvon 15.30 bis 17.30 Uhr \nSchaut mal vorbei und habt Spaß dabei!
URL:https://mehringen.de/event/jugend-mobil-spielangebote-2/2026-12-07/
LOCATION:Sporthalle Mehringen
ATTACH;FMTTYPE=image/bmp:https://mehringen.de/wp-content/uploads/6wuipfk0.bmp
END:VEVENT
BEGIN:VEVENT
DTSTART;TZID=Europe/Berlin:20261221T153000
DTEND;TZID=Europe/Berlin:20261221T173000
DTSTAMP:20260420T121912
CREATED:20241106T201027Z
LAST-MODIFIED:20241106T201027Z
UID:10000709-1797867000-1797874200@mehringen.de
SUMMARY:Jugend Mobil - Spielangebote
DESCRIPTION:Für Kinder und Jugendliche ab 8 Jahren\nin der Sporthalle Mehringen\njeden zweiten Montag\nab dem 28.10.2024\nvon 15.30 bis 17.30 Uhr \nSchaut mal vorbei und habt Spaß dabei!
URL:https://mehringen.de/event/jugend-mobil-spielangebote-2/2026-12-21/
LOCATION:Sporthalle Mehringen
ATTACH;FMTTYPE=image/bmp:https://mehringen.de/wp-content/uploads/6wuipfk0.bmp
END:VEVENT
BEGIN:VEVENT
DTSTART;TZID=Europe/Berlin:20270104T153000
DTEND;TZID=Europe/Berlin:20270104T173000
DTSTAMP:20260420T121912
CREATED:20241106T201027Z
LAST-MODIFIED:20241106T201027Z
UID:10000710-1799076600-1799083800@mehringen.de
SUMMARY:Jugend Mobil - Spielangebote
DESCRIPTION:Für Kinder und Jugendliche ab 8 Jahren\nin der Sporthalle Mehringen\njeden zweiten Montag\nab dem 28.10.2024\nvon 15.30 bis 17.30 Uhr \nSchaut mal vorbei und habt Spaß dabei!
URL:https://mehringen.de/event/jugend-mobil-spielangebote-2/2027-01-04/
LOCATION:Sporthalle Mehringen
ATTACH;FMTTYPE=image/bmp:https://mehringen.de/wp-content/uploads/6wuipfk0.bmp
END:VEVENT
BEGIN:VEVENT
DTSTART;TZID=Europe/Berlin:20270118T153000
DTEND;TZID=Europe/Berlin:20270118T173000
DTSTAMP:20260420T121912
CREATED:20241106T201027Z
LAST-MODIFIED:20241106T201027Z
UID:10000711-1800286200-1800293400@mehringen.de
SUMMARY:Jugend Mobil - Spielangebote
DESCRIPTION:Für Kinder und Jugendliche ab 8 Jahren\nin der Sporthalle Mehringen\njeden zweiten Montag\nab dem 28.10.2024\nvon 15.30 bis 17.30 Uhr \nSchaut mal vorbei und habt Spaß dabei!
URL:https://mehringen.de/event/jugend-mobil-spielangebote-2/2027-01-18/
LOCATION:Sporthalle Mehringen
ATTACH;FMTTYPE=image/bmp:https://mehringen.de/wp-content/uploads/6wuipfk0.bmp
END:VEVENT
BEGIN:VEVENT
DTSTART;TZID=Europe/Berlin:20270201T153000
DTEND;TZID=Europe/Berlin:20270201T173000
DTSTAMP:20260420T121912
CREATED:20241106T201027Z
LAST-MODIFIED:20241106T201027Z
UID:10000712-1801495800-1801503000@mehringen.de
SUMMARY:Jugend Mobil - Spielangebote
DESCRIPTION:Für Kinder und Jugendliche ab 8 Jahren\nin der Sporthalle Mehringen\njeden zweiten Montag\nab dem 28.10.2024\nvon 15.30 bis 17.30 Uhr \nSchaut mal vorbei und habt Spaß dabei!
URL:https://mehringen.de/event/jugend-mobil-spielangebote-2/2027-02-01/
LOCATION:Sporthalle Mehringen
ATTACH;FMTTYPE=image/bmp:https://mehringen.de/wp-content/uploads/6wuipfk0.bmp
END:VEVENT
BEGIN:VEVENT
DTSTART;TZID=Europe/Berlin:20270215T153000
DTEND;TZID=Europe/Berlin:20270215T173000
DTSTAMP:20260420T121912
CREATED:20241106T201027Z
LAST-MODIFIED:20241106T201027Z
UID:10000713-1802705400-1802712600@mehringen.de
SUMMARY:Jugend Mobil - Spielangebote
DESCRIPTION:Für Kinder und Jugendliche ab 8 Jahren\nin der Sporthalle Mehringen\njeden zweiten Montag\nab dem 28.10.2024\nvon 15.30 bis 17.30 Uhr \nSchaut mal vorbei und habt Spaß dabei!
URL:https://mehringen.de/event/jugend-mobil-spielangebote-2/2027-02-15/
LOCATION:Sporthalle Mehringen
ATTACH;FMTTYPE=image/bmp:https://mehringen.de/wp-content/uploads/6wuipfk0.bmp
END:VEVENT
BEGIN:VEVENT
DTSTART;TZID=Europe/Berlin:20270301T153000
DTEND;TZID=Europe/Berlin:20270301T173000
DTSTAMP:20260420T121912
CREATED:20241106T201027Z
LAST-MODIFIED:20241106T201027Z
UID:10000714-1803915000-1803922200@mehringen.de
SUMMARY:Jugend Mobil - Spielangebote
DESCRIPTION:Für Kinder und Jugendliche ab 8 Jahren\nin der Sporthalle Mehringen\njeden zweiten Montag\nab dem 28.10.2024\nvon 15.30 bis 17.30 Uhr \nSchaut mal vorbei und habt Spaß dabei!
URL:https://mehringen.de/event/jugend-mobil-spielangebote-2/2027-03-01/
LOCATION:Sporthalle Mehringen
ATTACH;FMTTYPE=image/bmp:https://mehringen.de/wp-content/uploads/6wuipfk0.bmp
END:VEVENT
BEGIN:VEVENT
DTSTART;TZID=Europe/Berlin:20270315T153000
DTEND;TZID=Europe/Berlin:20270315T173000
DTSTAMP:20260420T121912
CREATED:20241106T201027Z
LAST-MODIFIED:20241106T201027Z
UID:10000715-1805124600-1805131800@mehringen.de
SUMMARY:Jugend Mobil - Spielangebote
DESCRIPTION:Für Kinder und Jugendliche ab 8 Jahren\nin der Sporthalle Mehringen\njeden zweiten Montag\nab dem 28.10.2024\nvon 15.30 bis 17.30 Uhr \nSchaut mal vorbei und habt Spaß dabei!
URL:https://mehringen.de/event/jugend-mobil-spielangebote-2/2027-03-15/
LOCATION:Sporthalle Mehringen
ATTACH;FMTTYPE=image/bmp:https://mehringen.de/wp-content/uploads/6wuipfk0.bmp
END:VEVENT
BEGIN:VEVENT
DTSTART;TZID=Europe/Berlin:20270329T153000
DTEND;TZID=Europe/Berlin:20270329T173000
DTSTAMP:20260420T121912
CREATED:20241106T201027Z
LAST-MODIFIED:20241106T201027Z
UID:10000716-1806334200-1806341400@mehringen.de
SUMMARY:Jugend Mobil - Spielangebote
DESCRIPTION:Für Kinder und Jugendliche ab 8 Jahren\nin der Sporthalle Mehringen\njeden zweiten Montag\nab dem 28.10.2024\nvon 15.30 bis 17.30 Uhr \nSchaut mal vorbei und habt Spaß dabei!
URL:https://mehringen.de/event/jugend-mobil-spielangebote-2/2027-03-29/
LOCATION:Sporthalle Mehringen
ATTACH;FMTTYPE=image/bmp:https://mehringen.de/wp-content/uploads/6wuipfk0.bmp
END:VEVENT
BEGIN:VEVENT
DTSTART;TZID=Europe/Berlin:20270412T153000
DTEND;TZID=Europe/Berlin:20270412T173000
DTSTAMP:20260420T121912
CREATED:20241106T201027Z
LAST-MODIFIED:20241106T201027Z
UID:10000717-1807543800-1807551000@mehringen.de
SUMMARY:Jugend Mobil - Spielangebote
DESCRIPTION:Für Kinder und Jugendliche ab 8 Jahren\nin der Sporthalle Mehringen\njeden zweiten Montag\nab dem 28.10.2024\nvon 15.30 bis 17.30 Uhr \nSchaut mal vorbei und habt Spaß dabei!
URL:https://mehringen.de/event/jugend-mobil-spielangebote-2/2027-04-12/
LOCATION:Sporthalle Mehringen
ATTACH;FMTTYPE=image/bmp:https://mehringen.de/wp-content/uploads/6wuipfk0.bmp
END:VEVENT
BEGIN:VEVENT
DTSTART;TZID=Europe/Berlin:20270426T153000
DTEND;TZID=Europe/Berlin:20270426T173000
DTSTAMP:20260420T121912
CREATED:20241106T201027Z
LAST-MODIFIED:20241106T201027Z
UID:10000718-1808753400-1808760600@mehringen.de
SUMMARY:Jugend Mobil - Spielangebote
DESCRIPTION:Für Kinder und Jugendliche ab 8 Jahren\nin der Sporthalle Mehringen\njeden zweiten Montag\nab dem 28.10.2024\nvon 15.30 bis 17.30 Uhr \nSchaut mal vorbei und habt Spaß dabei!
URL:https://mehringen.de/event/jugend-mobil-spielangebote-2/2027-04-26/
LOCATION:Sporthalle Mehringen
ATTACH;FMTTYPE=image/bmp:https://mehringen.de/wp-content/uploads/6wuipfk0.bmp
END:VEVENT
BEGIN:VEVENT
DTSTART;TZID=Europe/Berlin:20270510T153000
DTEND;TZID=Europe/Berlin:20270510T173000
DTSTAMP:20260420T121912
CREATED:20241106T201027Z
LAST-MODIFIED:20241106T201027Z
UID:10000719-1809963000-1809970200@mehringen.de
SUMMARY:Jugend Mobil - Spielangebote
DESCRIPTION:Für Kinder und Jugendliche ab 8 Jahren\nin der Sporthalle Mehringen\njeden zweiten Montag\nab dem 28.10.2024\nvon 15.30 bis 17.30 Uhr \nSchaut mal vorbei und habt Spaß dabei!
URL:https://mehringen.de/event/jugend-mobil-spielangebote-2/2027-05-10/
LOCATION:Sporthalle Mehringen
ATTACH;FMTTYPE=image/bmp:https://mehringen.de/wp-content/uploads/6wuipfk0.bmp
END:VEVENT
BEGIN:VEVENT
DTSTART;TZID=Europe/Berlin:20270524T153000
DTEND;TZID=Europe/Berlin:20270524T173000
DTSTAMP:20260420T121912
CREATED:20241106T201027Z
LAST-MODIFIED:20241106T201027Z
UID:10000720-1811172600-1811179800@mehringen.de
SUMMARY:Jugend Mobil - Spielangebote
DESCRIPTION:Für Kinder und Jugendliche ab 8 Jahren\nin der Sporthalle Mehringen\njeden zweiten Montag\nab dem 28.10.2024\nvon 15.30 bis 17.30 Uhr \nSchaut mal vorbei und habt Spaß dabei!
URL:https://mehringen.de/event/jugend-mobil-spielangebote-2/2027-05-24/
LOCATION:Sporthalle Mehringen
ATTACH;FMTTYPE=image/bmp:https://mehringen.de/wp-content/uploads/6wuipfk0.bmp
END:VEVENT
BEGIN:VEVENT
DTSTART;TZID=Europe/Berlin:20270607T153000
DTEND;TZID=Europe/Berlin:20270607T173000
DTSTAMP:20260420T121912
CREATED:20241106T201027Z
LAST-MODIFIED:20241106T201027Z
UID:10000721-1812382200-1812389400@mehringen.de
SUMMARY:Jugend Mobil - Spielangebote
DESCRIPTION:Für Kinder und Jugendliche ab 8 Jahren\nin der Sporthalle Mehringen\njeden zweiten Montag\nab dem 28.10.2024\nvon 15.30 bis 17.30 Uhr \nSchaut mal vorbei und habt Spaß dabei!
URL:https://mehringen.de/event/jugend-mobil-spielangebote-2/2027-06-07/
LOCATION:Sporthalle Mehringen
ATTACH;FMTTYPE=image/bmp:https://mehringen.de/wp-content/uploads/6wuipfk0.bmp
END:VEVENT
END:VCALENDAR