BEGIN:VCALENDAR
VERSION:2.0
PRODID:-//Kultur- und Heimatverein Mehringen e. V. - ECPv6.15.20//NONSGML v1.0//EN
CALSCALE:GREGORIAN
METHOD:PUBLISH
X-ORIGINAL-URL:https://mehringen.de
X-WR-CALDESC:Veranstaltungen für Kultur- und Heimatverein Mehringen e. V.
REFRESH-INTERVAL;VALUE=DURATION:PT1H
X-Robots-Tag:noindex
X-PUBLISHED-TTL:PT1H
BEGIN:VTIMEZONE
TZID:Europe/Berlin
BEGIN:DAYLIGHT
TZOFFSETFROM:+0100
TZOFFSETTO:+0200
TZNAME:CEST
DTSTART:20230326T010000
END:DAYLIGHT
BEGIN:STANDARD
TZOFFSETFROM:+0200
TZOFFSETTO:+0100
TZNAME:CET
DTSTART:20231029T010000
END:STANDARD
BEGIN:DAYLIGHT
TZOFFSETFROM:+0100
TZOFFSETTO:+0200
TZNAME:CEST
DTSTART:20240331T010000
END:DAYLIGHT
BEGIN:STANDARD
TZOFFSETFROM:+0200
TZOFFSETTO:+0100
TZNAME:CET
DTSTART:20241027T010000
END:STANDARD
BEGIN:DAYLIGHT
TZOFFSETFROM:+0100
TZOFFSETTO:+0200
TZNAME:CEST
DTSTART:20250330T010000
END:DAYLIGHT
BEGIN:STANDARD
TZOFFSETFROM:+0200
TZOFFSETTO:+0100
TZNAME:CET
DTSTART:20251026T010000
END:STANDARD
END:VTIMEZONE
BEGIN:VEVENT
DTSTART;VALUE=DATE:20240622
DTEND;VALUE=DATE:20240624
DTSTAMP:20260421T151712
CREATED:20240114T105454Z
LAST-MODIFIED:20240114T105454Z
UID:10000149-1719014400-1719187199@mehringen.de
SUMMARY:Reit- und Fahrturnier Mehringen
DESCRIPTION:
URL:https://mehringen.de/event/reit-und-fahrturnier-mehringen-2/
LOCATION:Insel Mehringen\, Mehringen\, 06449\, Deutschland
ATTACH;FMTTYPE=image/jpeg:https://mehringen.de/wp-content/uploads/picture_0017782851.jpg
END:VEVENT
END:VCALENDAR