BEGIN:VCALENDAR
VERSION:2.0
PRODID:-//Kultur- und Heimatverein Mehringen e. V. - ECPv6.15.20//NONSGML v1.0//EN
CALSCALE:GREGORIAN
METHOD:PUBLISH
X-WR-CALNAME:Kultur- und Heimatverein Mehringen e. V.
X-ORIGINAL-URL:https://mehringen.de
X-WR-CALDESC:Veranstaltungen für Kultur- und Heimatverein Mehringen e. V.
REFRESH-INTERVAL;VALUE=DURATION:PT1H
X-Robots-Tag:noindex
X-PUBLISHED-TTL:PT1H
BEGIN:VTIMEZONE
TZID:Europe/Berlin
BEGIN:DAYLIGHT
TZOFFSETFROM:+0100
TZOFFSETTO:+0200
TZNAME:CEST
DTSTART:20230326T010000
END:DAYLIGHT
BEGIN:STANDARD
TZOFFSETFROM:+0200
TZOFFSETTO:+0100
TZNAME:CET
DTSTART:20231029T010000
END:STANDARD
BEGIN:DAYLIGHT
TZOFFSETFROM:+0100
TZOFFSETTO:+0200
TZNAME:CEST
DTSTART:20240331T010000
END:DAYLIGHT
BEGIN:STANDARD
TZOFFSETFROM:+0200
TZOFFSETTO:+0100
TZNAME:CET
DTSTART:20241027T010000
END:STANDARD
BEGIN:DAYLIGHT
TZOFFSETFROM:+0100
TZOFFSETTO:+0200
TZNAME:CEST
DTSTART:20250330T010000
END:DAYLIGHT
BEGIN:STANDARD
TZOFFSETFROM:+0200
TZOFFSETTO:+0100
TZNAME:CET
DTSTART:20251026T010000
END:STANDARD
END:VTIMEZONE
BEGIN:VEVENT
DTSTART;TZID=Europe/Berlin:20240706T123000
DTEND;TZID=Europe/Berlin:20240707T200000
DTSTAMP:20260421T172235
CREATED:20240114T105608Z
LAST-MODIFIED:20240702T052844Z
UID:10000150-1720269000-1720382400@mehringen.de
SUMMARY:Heimatliches Schützenfest
DESCRIPTION:Samstag\, den 06.07.2024 \n12.30 Uhr Kinderumzug mit der Fanfarengarde Hettstedt\nAbholen der Kinderkönige des Jahres 2023 (Treffpunkt ehemals Spielplatz\, Kirchstraße) \n anschließend Ermittlung des Kinderkegelkönigs danach\nErmittlung des Kinderkönigs im Adlerschießen \n13.00 Uhr Treffen zum großen Schützenumzug mit dem\nMehringer Spielmannszug\n(Treffpunkt: Lindenplatz)\n Kranzniederlegung am Kriegerdenkmal und gemeinsamer Umzug zum Festplatz \n14.30 Uhr Empfang der Schützenvereine in der Festhalle \n15.00 Uhr Familiennachmittag für Groß und Klein\n mit einer großen Kaffee- und Kuchentafel in der Festhalle \nab\n16.30 Uhr\nEs wird spannend:\n10. Bus-Trecking\n  Wer zieht am schnellsten??? \n20.00 Uhr\nTANZ zum Schützenfest mit der Band „JEDERMANN“\nund DJ Toni\n \n22.00 Uhr Auftritt der Crazy Dance Crew \n23.00 Uhr große Lasershow by MDE-MUSIC \nEintritt 5\,00 Euro\nam Samstag Abend \n  \nSonntag\, 07.07.2024 \n\n08.30 Uhr Abholen der Meister mit dem Mehringer Spielmannszug und der Fanfarengarde Hettstedt (Treffpunkt ehemals Sparkasse Mehringen) \n11.00 Uhr Musikalischer Frühschoppen mit den Sülzetal-Musikanten \nab\n12.00 Uhr Traditionelle Meisterschaften im Kegeln\nund Traditionelle Meisterschaften im Adlerschießen \ngegen\n15.30 Uhr Aufmarsch der Schützen und Siegerehrung \n GROßER FAMILIENNACHMITTAG ! \nmit musikalischer Unterhaltung von den Sülzetal-Musikanten \n16.00 Uhr- 20.00 Uhr ABSACKER-PARTY mit den Tagelöhnern \nEintritt frei!\nam Sonntag\n \n 
URL:https://mehringen.de/event/heimatliches-schuetzenfest-2/
LOCATION:Insel Mehringen\, Mehringen\, 06449\, Deutschland
ATTACH;FMTTYPE=image/jpeg:https://mehringen.de/wp-content/uploads/khvm_header_dt_schuetzen.jpg
END:VEVENT
BEGIN:VEVENT
DTSTART;TZID=Europe/Berlin:20240712T160000
DTEND;TZID=Europe/Berlin:20240712T193000
DTSTAMP:20260421T172235
CREATED:20240114T111949Z
LAST-MODIFIED:20240114T111949Z
UID:10000156-1720800000-1720812600@mehringen.de
SUMMARY:Blutspende-Aktion
DESCRIPTION:
URL:https://mehringen.de/event/blutspende-aktion-7/
LOCATION:Vereinshaus\, Kirchstr. 5\, 06449\, Sachsen-Anhalt\, 06449\, Deutschland
ATTACH;FMTTYPE=image/jpeg:https://mehringen.de/wp-content/uploads/29-07-21-Blutspende-1-1200-800x445-1.jpg
END:VEVENT
END:VCALENDAR