BEGIN:VCALENDAR
VERSION:2.0
PRODID:-//Kultur- und Heimatverein Mehringen e. V. - ECPv6.15.20//NONSGML v1.0//EN
CALSCALE:GREGORIAN
METHOD:PUBLISH
X-WR-CALNAME:Kultur- und Heimatverein Mehringen e. V.
X-ORIGINAL-URL:https://mehringen.de
X-WR-CALDESC:Veranstaltungen für Kultur- und Heimatverein Mehringen e. V.
REFRESH-INTERVAL;VALUE=DURATION:PT1H
X-Robots-Tag:noindex
X-PUBLISHED-TTL:PT1H
BEGIN:VTIMEZONE
TZID:Europe/Berlin
BEGIN:DAYLIGHT
TZOFFSETFROM:+0100
TZOFFSETTO:+0200
TZNAME:CEST
DTSTART:20240331T010000
END:DAYLIGHT
BEGIN:STANDARD
TZOFFSETFROM:+0200
TZOFFSETTO:+0100
TZNAME:CET
DTSTART:20241027T010000
END:STANDARD
BEGIN:DAYLIGHT
TZOFFSETFROM:+0100
TZOFFSETTO:+0200
TZNAME:CEST
DTSTART:20250330T010000
END:DAYLIGHT
BEGIN:STANDARD
TZOFFSETFROM:+0200
TZOFFSETTO:+0100
TZNAME:CET
DTSTART:20251026T010000
END:STANDARD
BEGIN:DAYLIGHT
TZOFFSETFROM:+0100
TZOFFSETTO:+0200
TZNAME:CEST
DTSTART:20260329T010000
END:DAYLIGHT
BEGIN:STANDARD
TZOFFSETFROM:+0200
TZOFFSETTO:+0100
TZNAME:CET
DTSTART:20261025T010000
END:STANDARD
END:VTIMEZONE
BEGIN:VEVENT
DTSTART;TZID=Europe/Berlin:20250106T153000
DTEND;TZID=Europe/Berlin:20250106T173000
DTSTAMP:20260419T151200
CREATED:20241106T201027Z
LAST-MODIFIED:20241106T201027Z
UID:10000658-1736177400-1736184600@mehringen.de
SUMMARY:Jugend Mobil - Spielangebote
DESCRIPTION:Für Kinder und Jugendliche ab 8 Jahren\nin der Sporthalle Mehringen\njeden zweiten Montag\nab dem 28.10.2024\nvon 15.30 bis 17.30 Uhr \nSchaut mal vorbei und habt Spaß dabei!
URL:https://mehringen.de/event/jugend-mobil-spielangebote-2/2025-01-06/
LOCATION:Sporthalle Mehringen
ATTACH;FMTTYPE=image/bmp:https://mehringen.de/wp-content/uploads/6wuipfk0.bmp
END:VEVENT
BEGIN:VEVENT
DTSTART;TZID=Europe/Berlin:20250106T153000
DTEND;TZID=Europe/Berlin:20250106T190000
DTSTAMP:20260419T151200
CREATED:20241222T054922Z
LAST-MODIFIED:20241222T055051Z
UID:10000798-1736177400-1736190000@mehringen.de
SUMMARY:Skatturnier im Vereinshaus
DESCRIPTION:
URL:https://mehringen.de/event/skatturnier-im-vereinshaus/
LOCATION:Vereinshaus\, Kirchstr. 5\, 06449\, Sachsen-Anhalt\, 06449\, Deutschland
ATTACH;FMTTYPE=image/jpeg:https://mehringen.de/wp-content/uploads/PHOTO-2024-12-21-17-10-55.jpg
END:VEVENT
BEGIN:VEVENT
DTSTART;TZID=Europe/Berlin:20250117T160000
DTEND;TZID=Europe/Berlin:20250117T193000
DTSTAMP:20260419T151200
CREATED:20241222T053511Z
LAST-MODIFIED:20241222T053511Z
UID:10000794-1737129600-1737142200@mehringen.de
SUMMARY:Blutspende-Aktion
DESCRIPTION:
URL:https://mehringen.de/event/blutspende-aktion-9/
LOCATION:Vereinshaus\, Kirchstr. 5\, 06449\, Sachsen-Anhalt\, 06449\, Deutschland
ATTACH;FMTTYPE=image/jpeg:https://mehringen.de/wp-content/uploads/29-07-21-Blutspende-1-1200-800x445-1.jpg
END:VEVENT
BEGIN:VEVENT
DTSTART;TZID=Europe/Berlin:20250120T153000
DTEND;TZID=Europe/Berlin:20250120T173000
DTSTAMP:20260419T151200
CREATED:20241106T201027Z
LAST-MODIFIED:20241106T201027Z
UID:10000659-1737387000-1737394200@mehringen.de
SUMMARY:Jugend Mobil - Spielangebote
DESCRIPTION:Für Kinder und Jugendliche ab 8 Jahren\nin der Sporthalle Mehringen\njeden zweiten Montag\nab dem 28.10.2024\nvon 15.30 bis 17.30 Uhr \nSchaut mal vorbei und habt Spaß dabei!
URL:https://mehringen.de/event/jugend-mobil-spielangebote-2/2025-01-20/
LOCATION:Sporthalle Mehringen
ATTACH;FMTTYPE=image/bmp:https://mehringen.de/wp-content/uploads/6wuipfk0.bmp
END:VEVENT
END:VCALENDAR