BEGIN:VCALENDAR
VERSION:2.0
PRODID:-//Kultur- und Heimatverein Mehringen e. V. - ECPv6.15.20//NONSGML v1.0//EN
CALSCALE:GREGORIAN
METHOD:PUBLISH
X-ORIGINAL-URL:https://mehringen.de
X-WR-CALDESC:Veranstaltungen für Kultur- und Heimatverein Mehringen e. V.
REFRESH-INTERVAL;VALUE=DURATION:PT1H
X-Robots-Tag:noindex
X-PUBLISHED-TTL:PT1H
BEGIN:VTIMEZONE
TZID:Europe/Berlin
BEGIN:DAYLIGHT
TZOFFSETFROM:+0100
TZOFFSETTO:+0200
TZNAME:CEST
DTSTART:20240331T010000
END:DAYLIGHT
BEGIN:STANDARD
TZOFFSETFROM:+0200
TZOFFSETTO:+0100
TZNAME:CET
DTSTART:20241027T010000
END:STANDARD
BEGIN:DAYLIGHT
TZOFFSETFROM:+0100
TZOFFSETTO:+0200
TZNAME:CEST
DTSTART:20250330T010000
END:DAYLIGHT
BEGIN:STANDARD
TZOFFSETFROM:+0200
TZOFFSETTO:+0100
TZNAME:CET
DTSTART:20251026T010000
END:STANDARD
BEGIN:DAYLIGHT
TZOFFSETFROM:+0100
TZOFFSETTO:+0200
TZNAME:CEST
DTSTART:20260329T010000
END:DAYLIGHT
BEGIN:STANDARD
TZOFFSETFROM:+0200
TZOFFSETTO:+0100
TZNAME:CET
DTSTART:20261025T010000
END:STANDARD
END:VTIMEZONE
BEGIN:VEVENT
DTSTART;TZID=Europe/Berlin:20250303T153000
DTEND;TZID=Europe/Berlin:20250303T173000
DTSTAMP:20260419T151327
CREATED:20241106T201027Z
LAST-MODIFIED:20241106T201027Z
UID:10000662-1741015800-1741023000@mehringen.de
SUMMARY:Jugend Mobil - Spielangebote
DESCRIPTION:Für Kinder und Jugendliche ab 8 Jahren\nin der Sporthalle Mehringen\njeden zweiten Montag\nab dem 28.10.2024\nvon 15.30 bis 17.30 Uhr \nSchaut mal vorbei und habt Spaß dabei!
URL:https://mehringen.de/event/jugend-mobil-spielangebote-2/2025-03-03/
LOCATION:Sporthalle Mehringen
ATTACH;FMTTYPE=image/bmp:https://mehringen.de/wp-content/uploads/6wuipfk0.bmp
END:VEVENT
BEGIN:VEVENT
DTSTART;TZID=Europe/Berlin:20250306T193000
DTEND;TZID=Europe/Berlin:20250306T220000
DTSTAMP:20260419T151327
CREATED:20250210T201122Z
LAST-MODIFIED:20250210T201122Z
UID:10000799-1741289400-1741298400@mehringen.de
SUMMARY:Jahreshauptversammlung der Jagdgenossenschaft
DESCRIPTION:
URL:https://mehringen.de/event/jahreshauptversammlung-der-jagdgenossenschaft/
LOCATION:Vereinshaus\, Kirchstr. 5\, 06449\, Sachsen-Anhalt\, 06449\, Deutschland
ATTACH;FMTTYPE=image/jpeg:https://mehringen.de/wp-content/uploads/Dokument_2025-02-10_104240.jpg
END:VEVENT
BEGIN:VEVENT
DTSTART;TZID=Europe/Berlin:20250317T153000
DTEND;TZID=Europe/Berlin:20250317T173000
DTSTAMP:20260419T151327
CREATED:20241106T201027Z
LAST-MODIFIED:20241106T201027Z
UID:10000663-1742225400-1742232600@mehringen.de
SUMMARY:Jugend Mobil - Spielangebote
DESCRIPTION:Für Kinder und Jugendliche ab 8 Jahren\nin der Sporthalle Mehringen\njeden zweiten Montag\nab dem 28.10.2024\nvon 15.30 bis 17.30 Uhr \nSchaut mal vorbei und habt Spaß dabei!
URL:https://mehringen.de/event/jugend-mobil-spielangebote-2/2025-03-17/
LOCATION:Sporthalle Mehringen
ATTACH;FMTTYPE=image/bmp:https://mehringen.de/wp-content/uploads/6wuipfk0.bmp
END:VEVENT
BEGIN:VEVENT
DTSTART;TZID=Europe/Berlin:20250329T160000
DTEND;TZID=Europe/Berlin:20250329T210000
DTSTAMP:20260419T151327
CREATED:20250224T205247Z
LAST-MODIFIED:20250309T064038Z
UID:10000801-1743264000-1743282000@mehringen.de
SUMMARY:Second Hand Markt auf der Insel
DESCRIPTION:
URL:https://mehringen.de/event/second-hand-markt-auf-der-insel/
LOCATION:Insel Mehringen\, Mehringen\, 06449\, Deutschland
ATTACH;FMTTYPE=image/jpeg:https://mehringen.de/wp-content/uploads/IMG_6774.jpg
END:VEVENT
BEGIN:VEVENT
DTSTART;TZID=Europe/Berlin:20250331T153000
DTEND;TZID=Europe/Berlin:20250331T173000
DTSTAMP:20260419T151327
CREATED:20241106T201027Z
LAST-MODIFIED:20241106T201027Z
UID:10000664-1743435000-1743442200@mehringen.de
SUMMARY:Jugend Mobil - Spielangebote
DESCRIPTION:Für Kinder und Jugendliche ab 8 Jahren\nin der Sporthalle Mehringen\njeden zweiten Montag\nab dem 28.10.2024\nvon 15.30 bis 17.30 Uhr \nSchaut mal vorbei und habt Spaß dabei!
URL:https://mehringen.de/event/jugend-mobil-spielangebote-2/2025-03-31/
LOCATION:Sporthalle Mehringen
ATTACH;FMTTYPE=image/bmp:https://mehringen.de/wp-content/uploads/6wuipfk0.bmp
END:VEVENT
END:VCALENDAR