BEGIN:VCALENDAR
VERSION:2.0
PRODID:-//Kultur- und Heimatverein Mehringen e. V. - ECPv6.15.20//NONSGML v1.0//EN
CALSCALE:GREGORIAN
METHOD:PUBLISH
X-WR-CALNAME:Kultur- und Heimatverein Mehringen e. V.
X-ORIGINAL-URL:https://mehringen.de
X-WR-CALDESC:Veranstaltungen für Kultur- und Heimatverein Mehringen e. V.
REFRESH-INTERVAL;VALUE=DURATION:PT1H
X-Robots-Tag:noindex
X-PUBLISHED-TTL:PT1H
BEGIN:VTIMEZONE
TZID:Europe/Berlin
BEGIN:DAYLIGHT
TZOFFSETFROM:+0100
TZOFFSETTO:+0200
TZNAME:CEST
DTSTART:20250330T010000
END:DAYLIGHT
BEGIN:STANDARD
TZOFFSETFROM:+0200
TZOFFSETTO:+0100
TZNAME:CET
DTSTART:20251026T010000
END:STANDARD
BEGIN:DAYLIGHT
TZOFFSETFROM:+0100
TZOFFSETTO:+0200
TZNAME:CEST
DTSTART:20260329T010000
END:DAYLIGHT
BEGIN:STANDARD
TZOFFSETFROM:+0200
TZOFFSETTO:+0100
TZNAME:CET
DTSTART:20261025T010000
END:STANDARD
BEGIN:DAYLIGHT
TZOFFSETFROM:+0100
TZOFFSETTO:+0200
TZNAME:CEST
DTSTART:20270328T010000
END:DAYLIGHT
BEGIN:STANDARD
TZOFFSETFROM:+0200
TZOFFSETTO:+0100
TZNAME:CET
DTSTART:20271031T010000
END:STANDARD
END:VTIMEZONE
BEGIN:VEVENT
DTSTART;TZID=Europe/Berlin:20260511T153000
DTEND;TZID=Europe/Berlin:20260511T173000
DTSTAMP:20260420T154635
CREATED:20241106T201027Z
LAST-MODIFIED:20241106T201027Z
UID:10000693-1778513400-1778520600@mehringen.de
SUMMARY:Jugend Mobil - Spielangebote
DESCRIPTION:Für Kinder und Jugendliche ab 8 Jahren\nin der Sporthalle Mehringen\njeden zweiten Montag\nab dem 28.10.2024\nvon 15.30 bis 17.30 Uhr \nSchaut mal vorbei und habt Spaß dabei!
URL:https://mehringen.de/event/jugend-mobil-spielangebote-2/2026-05-11/
LOCATION:Sporthalle Mehringen
ATTACH;FMTTYPE=image/bmp:https://mehringen.de/wp-content/uploads/6wuipfk0.bmp
END:VEVENT
BEGIN:VEVENT
DTSTART;TZID=Europe/Berlin:20260521T170000
DTEND;TZID=Europe/Berlin:20260521T200000
DTSTAMP:20260420T154635
CREATED:20260311T220729Z
LAST-MODIFIED:20260311T220813Z
UID:10000830-1779382800-1779393600@mehringen.de
SUMMARY:5. Brückengang
DESCRIPTION:Am 21.05.2026 ab 17 Uhr laden wir alle Mehringer zum 5. Brückengang an der Wipperstegbrücke ein. \n  \nFür das leibliche Wohl ist gesorgt! \nWir freuen uns auf EUCH!
URL:https://mehringen.de/event/5-brueckengang/
LOCATION:Wipperstegbrücke
END:VEVENT
BEGIN:VEVENT
DTSTART;TZID=Europe/Berlin:20260525T153000
DTEND;TZID=Europe/Berlin:20260525T173000
DTSTAMP:20260420T154635
CREATED:20241106T201027Z
LAST-MODIFIED:20241106T201027Z
UID:10000694-1779723000-1779730200@mehringen.de
SUMMARY:Jugend Mobil - Spielangebote
DESCRIPTION:Für Kinder und Jugendliche ab 8 Jahren\nin der Sporthalle Mehringen\njeden zweiten Montag\nab dem 28.10.2024\nvon 15.30 bis 17.30 Uhr \nSchaut mal vorbei und habt Spaß dabei!
URL:https://mehringen.de/event/jugend-mobil-spielangebote-2/2026-05-25/
LOCATION:Sporthalle Mehringen
ATTACH;FMTTYPE=image/bmp:https://mehringen.de/wp-content/uploads/6wuipfk0.bmp
END:VEVENT
BEGIN:VEVENT
DTSTART;VALUE=DATE:20260530
DTEND;VALUE=DATE:20260601
DTSTAMP:20260420T154635
CREATED:20251212T113425Z
LAST-MODIFIED:20260309T133837Z
UID:10000819-1780099200-1780271999@mehringen.de
SUMMARY:Offene Landesmeisterschaften im Holzrücken
DESCRIPTION:
URL:https://mehringen.de/event/offene-landesmeisterschaften-im-holzruecken/
LOCATION:Insel Mehringen\, Mehringen\, 06449\, Deutschland
END:VEVENT
END:VCALENDAR