BEGIN:VCALENDAR
VERSION:2.0
PRODID:-//Kultur- und Heimatverein Mehringen e. V. - ECPv6.15.20//NONSGML v1.0//EN
CALSCALE:GREGORIAN
METHOD:PUBLISH
X-WR-CALNAME:Kultur- und Heimatverein Mehringen e. V.
X-ORIGINAL-URL:https://mehringen.de
X-WR-CALDESC:Veranstaltungen für Kultur- und Heimatverein Mehringen e. V.
REFRESH-INTERVAL;VALUE=DURATION:PT1H
X-Robots-Tag:noindex
X-PUBLISHED-TTL:PT1H
BEGIN:VTIMEZONE
TZID:Europe/Berlin
BEGIN:DAYLIGHT
TZOFFSETFROM:+0100
TZOFFSETTO:+0200
TZNAME:CEST
DTSTART:20250330T010000
END:DAYLIGHT
BEGIN:STANDARD
TZOFFSETFROM:+0200
TZOFFSETTO:+0100
TZNAME:CET
DTSTART:20251026T010000
END:STANDARD
BEGIN:DAYLIGHT
TZOFFSETFROM:+0100
TZOFFSETTO:+0200
TZNAME:CEST
DTSTART:20260329T010000
END:DAYLIGHT
BEGIN:STANDARD
TZOFFSETFROM:+0200
TZOFFSETTO:+0100
TZNAME:CET
DTSTART:20261025T010000
END:STANDARD
BEGIN:DAYLIGHT
TZOFFSETFROM:+0100
TZOFFSETTO:+0200
TZNAME:CEST
DTSTART:20270328T010000
END:DAYLIGHT
BEGIN:STANDARD
TZOFFSETFROM:+0200
TZOFFSETTO:+0100
TZNAME:CET
DTSTART:20271031T010000
END:STANDARD
END:VTIMEZONE
BEGIN:VEVENT
DTSTART;TZID=Europe/Berlin:20260913T130000
DTEND;TZID=Europe/Berlin:20260913T170000
DTSTAMP:20260421T110945
CREATED:20260316T094559Z
LAST-MODIFIED:20260316T094559Z
UID:10000831-1789304400-1789318800@mehringen.de
SUMMARY:Bolzplatz Turnier
DESCRIPTION:Am 13.09.2026 findet auf dem Westerberg wieder ein Bolzplatz Turnier statt. Ab 13 Uhr.
URL:https://mehringen.de/event/bolzplatz-turnier-2/
LOCATION:Westerberg\, Mehringen
END:VEVENT
END:VCALENDAR